BEGIN:VCALENDAR
VERSION:2.0
PRODID:-//WhenKickoff//Match Reminder//EN
BEGIN:VEVENT
UID:wk-540653-15@whenkickoff.com
DTSTAMP:20260419T175329Z
DTSTART:20260404T133000Z
DTEND:20260404T153000Z
SUMMARY:Bayer 04 Leverkusen vs VfL Wolfsburg
DESCRIPTION:WhenKickoff reminder for Bayer 04 Leverkusen vs VfL Wolfsburg
URL:https://whenkickoff.com/en/match/bayer-04-leverkusen-vs-vfl-wolfsburg-540653/
BEGIN:VALARM
TRIGGER:-PT15M
ACTION:DISPLAY
DESCRIPTION:Match starts soon
END:VALARM
END:VEVENT
END:VCALENDAR
