BEGIN:VCALENDAR
VERSION:2.0
PRODID:-//WhenKickoff//Match Reminder//EN
BEGIN:VEVENT
UID:wk-540651-15@whenkickoff.com
DTSTAMP:20260419T152626Z
DTSTART:20260404T133000Z
DTEND:20260404T153000Z
SUMMARY:TSG 1899 Hoffenheim vs 1. FSV Mainz 05
DESCRIPTION:WhenKickoff reminder for TSG 1899 Hoffenheim vs 1. FSV Mainz 05
URL:https://whenkickoff.com/en/match/tsg-1899-hoffenheim-vs-1-fsv-mainz-05-540651/
BEGIN:VALARM
TRIGGER:-PT15M
ACTION:DISPLAY
DESCRIPTION:Match starts soon
END:VALARM
END:VEVENT
END:VCALENDAR
