BEGIN:VCALENDAR
VERSION:2.0
PRODID:-//WhenKickoff//Match Reminder//EN
BEGIN:VEVENT
UID:wk-540649-15@whenkickoff.com
DTSTAMP:20260419T152628Z
DTSTART:20260404T133000Z
DTEND:20260404T153000Z
SUMMARY:SC Freiburg vs FC Bayern München
DESCRIPTION:WhenKickoff reminder for SC Freiburg vs FC Bayern München
URL:https://whenkickoff.com/en/match/sc-freiburg-vs-fc-bayern-m-nchen-540649/
BEGIN:VALARM
TRIGGER:-PT15M
ACTION:DISPLAY
DESCRIPTION:Match starts soon
END:VALARM
END:VEVENT
END:VCALENDAR
