BEGIN:VCALENDAR
VERSION:2.0
PRODID:-//WhenKickoff//Match Reminder//EN
BEGIN:VEVENT
UID:wk-540648-15@whenkickoff.com
DTSTAMP:20260419T143733Z
DTSTART:20260321T173000Z
DTEND:20260321T193000Z
SUMMARY:Borussia Dortmund vs Hamburger SV
DESCRIPTION:WhenKickoff reminder for Borussia Dortmund vs Hamburger SV
URL:https://whenkickoff.com/en/match/borussia-dortmund-vs-hamburger-sv-540648/
BEGIN:VALARM
TRIGGER:-PT15M
ACTION:DISPLAY
DESCRIPTION:Match starts soon
END:VALARM
END:VEVENT
END:VCALENDAR
