BEGIN:VCALENDAR
VERSION:2.0
PRODID:-//WhenKickoff//Match Reminder//EN
BEGIN:VEVENT
UID:wk-540643-15@whenkickoff.com
DTSTAMP:20260419T150820Z
DTSTART:20260321T143000Z
DTEND:20260321T163000Z
SUMMARY:VfL Wolfsburg vs SV Werder Bremen
DESCRIPTION:WhenKickoff reminder for VfL Wolfsburg vs SV Werder Bremen
URL:https://whenkickoff.com/en/match/vfl-wolfsburg-vs-sv-werder-bremen-540643/
BEGIN:VALARM
TRIGGER:-PT15M
ACTION:DISPLAY
DESCRIPTION:Match starts soon
END:VALARM
END:VEVENT
END:VCALENDAR
