BEGIN:VCALENDAR
VERSION:2.0
PRODID:-//WhenKickoff//Match Reminder//EN
BEGIN:VEVENT
UID:wk-540641-15@whenkickoff.com
DTSTAMP:20260419T152629Z
DTSTART:20260322T143000Z
DTEND:20260322T163000Z
SUMMARY:1. FSV Mainz 05 vs Eintracht Frankfurt
DESCRIPTION:WhenKickoff reminder for 1. FSV Mainz 05 vs Eintracht Frankfurt
URL:https://whenkickoff.com/en/match/1-fsv-mainz-05-vs-eintracht-frankfurt-540641/
BEGIN:VALARM
TRIGGER:-PT15M
ACTION:DISPLAY
DESCRIPTION:Match starts soon
END:VALARM
END:VEVENT
END:VCALENDAR
