BEGIN:VCALENDAR
VERSION:2.0
PRODID:-//WhenKickoff//Match Reminder//EN
BEGIN:VEVENT
UID:wk-540635-15@whenkickoff.com
DTSTAMP:20260419T135922Z
DTSTART:20260314T143000Z
DTEND:20260314T163000Z
SUMMARY:Borussia Dortmund vs FC Augsburg
DESCRIPTION:WhenKickoff reminder for Borussia Dortmund vs FC Augsburg
URL:https://whenkickoff.com/en/match/borussia-dortmund-vs-fc-augsburg-540635/
BEGIN:VALARM
TRIGGER:-PT15M
ACTION:DISPLAY
DESCRIPTION:Match starts soon
END:VALARM
END:VEVENT
END:VCALENDAR
