BEGIN:VCALENDAR
VERSION:2.0
PRODID:-//WhenKickoff//Match Reminder//EN
BEGIN:VEVENT
UID:wk-540621-15@whenkickoff.com
DTSTAMP:20260419T192449Z
DTSTART:20260227T193000Z
DTEND:20260227T213000Z
SUMMARY:FC Augsburg vs 1. FC Köln
DESCRIPTION:WhenKickoff reminder for FC Augsburg vs 1. FC Köln
URL:https://whenkickoff.com/en/match/fc-augsburg-vs-1-fc-k-ln-540621/
BEGIN:VALARM
TRIGGER:-PT15M
ACTION:DISPLAY
DESCRIPTION:Match starts soon
END:VALARM
END:VEVENT
END:VCALENDAR
