BEGIN:VCALENDAR
VERSION:2.0
PRODID:-//WhenKickoff//Match Reminder//EN
BEGIN:VEVENT
UID:wk-540616-15@whenkickoff.com
DTSTAMP:20260419T192357Z
DTSTART:20260301T183000Z
DTEND:20260301T203000Z
SUMMARY:Hamburger SV vs RB Leipzig
DESCRIPTION:WhenKickoff reminder for Hamburger SV vs RB Leipzig
URL:https://whenkickoff.com/en/match/hamburger-sv-vs-rb-leipzig-540616/
BEGIN:VALARM
TRIGGER:-PT15M
ACTION:DISPLAY
DESCRIPTION:Match starts soon
END:VALARM
END:VEVENT
END:VCALENDAR
