BEGIN:VCALENDAR
VERSION:2.0
PRODID:-//WhenKickoff//Match Reminder//EN
BEGIN:VEVENT
UID:wk-540613-15@whenkickoff.com
DTSTAMP:20260419T193640Z
DTSTART:20260228T173000Z
DTEND:20260228T193000Z
SUMMARY:Borussia Dortmund vs FC Bayern München
DESCRIPTION:WhenKickoff reminder for Borussia Dortmund vs FC Bayern München
URL:https://whenkickoff.com/en/match/borussia-dortmund-vs-fc-bayern-m-nchen-540613/
BEGIN:VALARM
TRIGGER:-PT15M
ACTION:DISPLAY
DESCRIPTION:Match starts soon
END:VALARM
END:VEVENT
END:VCALENDAR
