BEGIN:VCALENDAR
VERSION:2.0
PRODID:-//WhenKickoff//Match Reminder//EN
BEGIN:VEVENT
UID:wk-540606-15@whenkickoff.com
DTSTAMP:20260419T201235Z
DTSTART:20260221T173000Z
DTEND:20260221T193000Z
SUMMARY:RB Leipzig vs Borussia Dortmund
DESCRIPTION:WhenKickoff reminder for RB Leipzig vs Borussia Dortmund
URL:https://whenkickoff.com/en/match/rb-leipzig-vs-borussia-dortmund-540606/
BEGIN:VALARM
TRIGGER:-PT15M
ACTION:DISPLAY
DESCRIPTION:Match starts soon
END:VALARM
END:VEVENT
END:VCALENDAR
