BEGIN:VCALENDAR
VERSION:2.0
PRODID:-//WhenKickoff//Match Reminder//EN
BEGIN:VEVENT
UID:wk-540603-15@whenkickoff.com
DTSTAMP:20260420T061257Z
DTSTART:20260214T173000Z
DTEND:20260214T193000Z
SUMMARY:VfB Stuttgart vs 1. FC Köln
DESCRIPTION:WhenKickoff reminder for VfB Stuttgart vs 1. FC Köln
URL:https://whenkickoff.com/en/match/vfb-stuttgart-vs-1-fc-k-ln-540603/
BEGIN:VALARM
TRIGGER:-PT15M
ACTION:DISPLAY
DESCRIPTION:Match starts soon
END:VALARM
END:VEVENT
END:VCALENDAR
