BEGIN:VCALENDAR
VERSION:2.0
PRODID:-//WhenKickoff//Match Reminder//EN
BEGIN:VEVENT
UID:wk-540601-15@whenkickoff.com
DTSTAMP:20260420T061256Z
DTSTART:20260214T143000Z
DTEND:20260214T163000Z
SUMMARY:Bayer 04 Leverkusen vs FC St. Pauli 1910
DESCRIPTION:WhenKickoff reminder for Bayer 04 Leverkusen vs FC St. Pauli 1910
URL:https://whenkickoff.com/en/match/bayer-04-leverkusen-vs-fc-st-pauli-1910-540601/
BEGIN:VALARM
TRIGGER:-PT15M
ACTION:DISPLAY
DESCRIPTION:Match starts soon
END:VALARM
END:VEVENT
END:VCALENDAR
