BEGIN:VCALENDAR
VERSION:2.0
PRODID:-//WhenKickoff//Match Reminder//EN
BEGIN:VEVENT
UID:wk-540600-15@whenkickoff.com
DTSTAMP:20260420T061319Z
DTSTART:20260214T143000Z
DTEND:20260214T163000Z
SUMMARY:Hamburger SV vs 1. FC Union Berlin
DESCRIPTION:WhenKickoff reminder for Hamburger SV vs 1. FC Union Berlin
URL:https://whenkickoff.com/en/match/hamburger-sv-vs-1-fc-union-berlin-540600/
BEGIN:VALARM
TRIGGER:-PT15M
ACTION:DISPLAY
DESCRIPTION:Match starts soon
END:VALARM
END:VEVENT
END:VCALENDAR
