BEGIN:VCALENDAR
VERSION:2.0
PRODID:-//WhenKickoff//Match Reminder//EN
BEGIN:VEVENT
UID:wk-540599-15@whenkickoff.com
DTSTAMP:20260420T033736Z
DTSTART:20260215T163000Z
DTEND:20260215T183000Z
SUMMARY:RB Leipzig vs VfL Wolfsburg
DESCRIPTION:WhenKickoff reminder for RB Leipzig vs VfL Wolfsburg
URL:https://whenkickoff.com/en/match/rb-leipzig-vs-vfl-wolfsburg-540599/
BEGIN:VALARM
TRIGGER:-PT15M
ACTION:DISPLAY
DESCRIPTION:Match starts soon
END:VALARM
END:VEVENT
END:VCALENDAR
