BEGIN:VCALENDAR
VERSION:2.0
PRODID:-//WhenKickoff//Match Reminder//EN
BEGIN:VEVENT
UID:wk-540596-15@whenkickoff.com
DTSTAMP:20260420T061157Z
DTSTART:20260214T143000Z
DTEND:20260214T163000Z
SUMMARY:TSG 1899 Hoffenheim vs SC Freiburg
DESCRIPTION:WhenKickoff reminder for TSG 1899 Hoffenheim vs SC Freiburg
URL:https://whenkickoff.com/en/match/tsg-1899-hoffenheim-vs-sc-freiburg-540596/
BEGIN:VALARM
TRIGGER:-PT15M
ACTION:DISPLAY
DESCRIPTION:Match starts soon
END:VALARM
END:VEVENT
END:VCALENDAR
