BEGIN:VCALENDAR
VERSION:2.0
PRODID:-//WhenKickoff//Match Reminder//EN
BEGIN:VEVENT
UID:wk-540592-15@whenkickoff.com
DTSTAMP:20260420T124540Z
DTSTART:20260207T143000Z
DTEND:20260207T163000Z
SUMMARY:1. FSV Mainz 05 vs FC Augsburg
DESCRIPTION:WhenKickoff reminder for 1. FSV Mainz 05 vs FC Augsburg
URL:https://whenkickoff.com/en/match/1-fsv-mainz-05-vs-fc-augsburg-540592/
BEGIN:VALARM
TRIGGER:-PT15M
ACTION:DISPLAY
DESCRIPTION:Match starts soon
END:VALARM
END:VEVENT
END:VCALENDAR
