BEGIN:VCALENDAR
VERSION:2.0
PRODID:-//WhenKickoff//Match Reminder//EN
BEGIN:VEVENT
UID:wk-540591-15@whenkickoff.com
DTSTAMP:20260420T124540Z
DTSTART:20260207T143000Z
DTEND:20260207T163000Z
SUMMARY:FC St. Pauli 1910 vs VfB Stuttgart
DESCRIPTION:WhenKickoff reminder for FC St. Pauli 1910 vs VfB Stuttgart
URL:https://whenkickoff.com/en/match/fc-st-pauli-1910-vs-vfb-stuttgart-540591/
BEGIN:VALARM
TRIGGER:-PT15M
ACTION:DISPLAY
DESCRIPTION:Match starts soon
END:VALARM
END:VEVENT
END:VCALENDAR
