BEGIN:VCALENDAR
VERSION:2.0
PRODID:-//WhenKickoff//Match Reminder//EN
BEGIN:VEVENT
UID:wk-540588-15@whenkickoff.com
DTSTAMP:20260420T120339Z
DTSTART:20260207T143000Z
DTEND:20260207T163000Z
SUMMARY:VfL Wolfsburg vs Borussia Dortmund
DESCRIPTION:WhenKickoff reminder for VfL Wolfsburg vs Borussia Dortmund
URL:https://whenkickoff.com/en/match/vfl-wolfsburg-vs-borussia-dortmund-540588/
BEGIN:VALARM
TRIGGER:-PT15M
ACTION:DISPLAY
DESCRIPTION:Match starts soon
END:VALARM
END:VEVENT
END:VCALENDAR
