BEGIN:VCALENDAR
VERSION:2.0
PRODID:-//WhenKickoff//Match Reminder//EN
BEGIN:VEVENT
UID:wk-540587-15@whenkickoff.com
DTSTAMP:20260420T120240Z
DTSTART:20260206T193000Z
DTEND:20260206T213000Z
SUMMARY:1. FC Union Berlin vs Eintracht Frankfurt
DESCRIPTION:WhenKickoff reminder for 1. FC Union Berlin vs Eintracht Frankfurt
URL:https://whenkickoff.com/en/match/1-fc-union-berlin-vs-eintracht-frankfurt-540587/
BEGIN:VALARM
TRIGGER:-PT15M
ACTION:DISPLAY
DESCRIPTION:Match starts soon
END:VALARM
END:VEVENT
END:VCALENDAR
