BEGIN:VCALENDAR
VERSION:2.0
PRODID:-//WhenKickoff//Match Reminder//EN
BEGIN:VEVENT
UID:wk-540586-15@whenkickoff.com
DTSTAMP:20260420T120240Z
DTSTART:20260207T173000Z
DTEND:20260207T193000Z
SUMMARY:Borussia Mönchengladbach vs Bayer 04 Leverkusen
DESCRIPTION:WhenKickoff reminder for Borussia Mönchengladbach vs Bayer 04 Leverkusen
URL:https://whenkickoff.com/en/match/borussia-m-nchengladbach-vs-bayer-04-leverkusen-540586/
BEGIN:VALARM
TRIGGER:-PT15M
ACTION:DISPLAY
DESCRIPTION:Match starts soon
END:VALARM
END:VEVENT
END:VCALENDAR
