BEGIN:VCALENDAR
VERSION:2.0
PRODID:-//WhenKickoff//Match Reminder//EN
BEGIN:VEVENT
UID:wk-540585-15@whenkickoff.com
DTSTAMP:20260420T173727Z
DTSTART:20260201T163000Z
DTEND:20260201T183000Z
SUMMARY:Borussia Dortmund vs 1. FC Heidenheim 1846
DESCRIPTION:WhenKickoff reminder for Borussia Dortmund vs 1. FC Heidenheim 1846
URL:https://whenkickoff.com/en/match/borussia-dortmund-vs-1-fc-heidenheim-1846-540585/
BEGIN:VALARM
TRIGGER:-PT15M
ACTION:DISPLAY
DESCRIPTION:Match starts soon
END:VALARM
END:VEVENT
END:VCALENDAR
