BEGIN:VCALENDAR
VERSION:2.0
PRODID:-//WhenKickoff//Match Reminder//EN
BEGIN:VEVENT
UID:wk-540580-15@whenkickoff.com
DTSTAMP:20260420T153028Z
DTSTART:20260131T143000Z
DTEND:20260131T163000Z
SUMMARY:RB Leipzig vs 1. FSV Mainz 05
DESCRIPTION:WhenKickoff reminder for RB Leipzig vs 1. FSV Mainz 05
URL:https://whenkickoff.com/en/match/rb-leipzig-vs-1-fsv-mainz-05-540580/
BEGIN:VALARM
TRIGGER:-PT15M
ACTION:DISPLAY
DESCRIPTION:Match starts soon
END:VALARM
END:VEVENT
END:VCALENDAR
