BEGIN:VCALENDAR
VERSION:2.0
PRODID:-//WhenKickoff//Match Reminder//EN
BEGIN:VEVENT
UID:wk-540579-15@whenkickoff.com
DTSTAMP:20260420T171157Z
DTSTART:20260201T143000Z
DTEND:20260201T163000Z
SUMMARY:VfB Stuttgart vs SC Freiburg
DESCRIPTION:WhenKickoff reminder for VfB Stuttgart vs SC Freiburg
URL:https://whenkickoff.com/en/match/vfb-stuttgart-vs-sc-freiburg-540579/
BEGIN:VALARM
TRIGGER:-PT15M
ACTION:DISPLAY
DESCRIPTION:Match starts soon
END:VALARM
END:VEVENT
END:VCALENDAR
