BEGIN:VCALENDAR
VERSION:2.0
PRODID:-//WhenKickoff//Match Reminder//EN
BEGIN:VEVENT
UID:wk-540576-15@whenkickoff.com
DTSTAMP:20260420T134800Z
DTSTART:20260123T193000Z
DTEND:20260123T213000Z
SUMMARY:FC St. Pauli 1910 vs Hamburger SV
DESCRIPTION:WhenKickoff reminder for FC St. Pauli 1910 vs Hamburger SV
URL:https://whenkickoff.com/en/match/fc-st-pauli-1910-vs-hamburger-sv-540576/
BEGIN:VALARM
TRIGGER:-PT15M
ACTION:DISPLAY
DESCRIPTION:Match starts soon
END:VALARM
END:VEVENT
END:VCALENDAR
