BEGIN:VCALENDAR
VERSION:2.0
PRODID:-//WhenKickoff//Match Reminder//EN
BEGIN:VEVENT
UID:wk-540575-15@whenkickoff.com
DTSTAMP:20260420T133308Z
DTSTART:20260125T163000Z
DTEND:20260125T183000Z
SUMMARY:SC Freiburg vs 1. FC Köln
DESCRIPTION:WhenKickoff reminder for SC Freiburg vs 1. FC Köln
URL:https://whenkickoff.com/en/match/sc-freiburg-vs-1-fc-k-ln-540575/
BEGIN:VALARM
TRIGGER:-PT15M
ACTION:DISPLAY
DESCRIPTION:Match starts soon
END:VALARM
END:VEVENT
END:VCALENDAR
