BEGIN:VCALENDAR
VERSION:2.0
PRODID:-//WhenKickoff//Match Reminder//EN
BEGIN:VEVENT
UID:wk-540574-15@whenkickoff.com
DTSTAMP:20260420T120237Z
DTSTART:20260124T143000Z
DTEND:20260124T163000Z
SUMMARY:Eintracht Frankfurt vs TSG 1899 Hoffenheim
DESCRIPTION:WhenKickoff reminder for Eintracht Frankfurt vs TSG 1899 Hoffenheim
URL:https://whenkickoff.com/en/match/eintracht-frankfurt-vs-tsg-1899-hoffenheim-540574/
BEGIN:VALARM
TRIGGER:-PT15M
ACTION:DISPLAY
DESCRIPTION:Match starts soon
END:VALARM
END:VEVENT
END:VCALENDAR
