BEGIN:VCALENDAR
VERSION:2.0
PRODID:-//WhenKickoff//Match Reminder//EN
BEGIN:VEVENT
UID:wk-540573-15@whenkickoff.com
DTSTAMP:20260420T133309Z
DTSTART:20260124T143000Z
DTEND:20260124T163000Z
SUMMARY:FC Bayern München vs FC Augsburg
DESCRIPTION:WhenKickoff reminder for FC Bayern München vs FC Augsburg
URL:https://whenkickoff.com/en/match/fc-bayern-m-nchen-vs-fc-augsburg-540573/
BEGIN:VALARM
TRIGGER:-PT15M
ACTION:DISPLAY
DESCRIPTION:Match starts soon
END:VALARM
END:VEVENT
END:VCALENDAR
