BEGIN:VCALENDAR
VERSION:2.0
PRODID:-//WhenKickoff//Match Reminder//EN
BEGIN:VEVENT
UID:wk-540572-15@whenkickoff.com
DTSTAMP:20260420T132157Z
DTSTART:20260124T143000Z
DTEND:20260124T163000Z
SUMMARY:1. FSV Mainz 05 vs VfL Wolfsburg
DESCRIPTION:WhenKickoff reminder for 1. FSV Mainz 05 vs VfL Wolfsburg
URL:https://whenkickoff.com/en/match/1-fsv-mainz-05-vs-vfl-wolfsburg-540572/
BEGIN:VALARM
TRIGGER:-PT15M
ACTION:DISPLAY
DESCRIPTION:Match starts soon
END:VALARM
END:VEVENT
END:VCALENDAR
