BEGIN:VCALENDAR
VERSION:2.0
PRODID:-//WhenKickoff//Match Reminder//EN
BEGIN:VEVENT
UID:wk-540571-15@whenkickoff.com
DTSTAMP:20260420T133309Z
DTSTART:20260125T143000Z
DTEND:20260125T163000Z
SUMMARY:Borussia Mönchengladbach vs VfB Stuttgart
DESCRIPTION:WhenKickoff reminder for Borussia Mönchengladbach vs VfB Stuttgart
URL:https://whenkickoff.com/en/match/borussia-m-nchengladbach-vs-vfb-stuttgart-540571/
BEGIN:VALARM
TRIGGER:-PT15M
ACTION:DISPLAY
DESCRIPTION:Match starts soon
END:VALARM
END:VEVENT
END:VCALENDAR
