BEGIN:VCALENDAR
VERSION:2.0
PRODID:-//WhenKickoff//Match Reminder//EN
BEGIN:VEVENT
UID:wk-540570-15@whenkickoff.com
DTSTAMP:20260420T133307Z
DTSTART:20260124T143000Z
DTEND:20260124T163000Z
SUMMARY:Bayer 04 Leverkusen vs SV Werder Bremen
DESCRIPTION:WhenKickoff reminder for Bayer 04 Leverkusen vs SV Werder Bremen
URL:https://whenkickoff.com/en/match/bayer-04-leverkusen-vs-sv-werder-bremen-540570/
BEGIN:VALARM
TRIGGER:-PT15M
ACTION:DISPLAY
DESCRIPTION:Match starts soon
END:VALARM
END:VEVENT
END:VCALENDAR
