BEGIN:VCALENDAR
VERSION:2.0
PRODID:-//WhenKickoff//Match Reminder//EN
BEGIN:VEVENT
UID:wk-540568-15@whenkickoff.com
DTSTAMP:20260420T133307Z
DTSTART:20260124T173000Z
DTEND:20260124T193000Z
SUMMARY:1. FC Union Berlin vs Borussia Dortmund
DESCRIPTION:WhenKickoff reminder for 1. FC Union Berlin vs Borussia Dortmund
URL:https://whenkickoff.com/en/match/1-fc-union-berlin-vs-borussia-dortmund-540568/
BEGIN:VALARM
TRIGGER:-PT15M
ACTION:DISPLAY
DESCRIPTION:Match starts soon
END:VALARM
END:VEVENT
END:VCALENDAR
