BEGIN:VCALENDAR
VERSION:2.0
PRODID:-//WhenKickoff//Match Reminder//EN
BEGIN:VEVENT
UID:wk-540567-15@whenkickoff.com
DTSTAMP:20260420T064003Z
DTSTART:20260117T143000Z
DTEND:20260117T163000Z
SUMMARY:VfL Wolfsburg vs 1. FC Heidenheim 1846
DESCRIPTION:WhenKickoff reminder for VfL Wolfsburg vs 1. FC Heidenheim 1846
URL:https://whenkickoff.com/en/match/vfl-wolfsburg-vs-1-fc-heidenheim-1846-540567/
BEGIN:VALARM
TRIGGER:-PT15M
ACTION:DISPLAY
DESCRIPTION:Match starts soon
END:VALARM
END:VEVENT
END:VCALENDAR
