BEGIN:VCALENDAR
VERSION:2.0
PRODID:-//WhenKickoff//Match Reminder//EN
BEGIN:VEVENT
UID:wk-540566-15@whenkickoff.com
DTSTAMP:20260420T065339Z
DTSTART:20260117T143000Z
DTEND:20260117T163000Z
SUMMARY:Borussia Dortmund vs FC St. Pauli 1910
DESCRIPTION:WhenKickoff reminder for Borussia Dortmund vs FC St. Pauli 1910
URL:https://whenkickoff.com/en/match/borussia-dortmund-vs-fc-st-pauli-1910-540566/
BEGIN:VALARM
TRIGGER:-PT15M
ACTION:DISPLAY
DESCRIPTION:Match starts soon
END:VALARM
END:VEVENT
END:VCALENDAR
