BEGIN:VCALENDAR
VERSION:2.0
PRODID:-//WhenKickoff//Match Reminder//EN
BEGIN:VEVENT
UID:wk-540565-15@whenkickoff.com
DTSTAMP:20260420T083909Z
DTSTART:20260118T143000Z
DTEND:20260118T163000Z
SUMMARY:VfB Stuttgart vs 1. FC Union Berlin
DESCRIPTION:WhenKickoff reminder for VfB Stuttgart vs 1. FC Union Berlin
URL:https://whenkickoff.com/en/match/vfb-stuttgart-vs-1-fc-union-berlin-540565/
BEGIN:VALARM
TRIGGER:-PT15M
ACTION:DISPLAY
DESCRIPTION:Match starts soon
END:VALARM
END:VEVENT
END:VCALENDAR
