BEGIN:VCALENDAR
VERSION:2.0
PRODID:-//WhenKickoff//Match Reminder//EN
BEGIN:VEVENT
UID:wk-540564-15@whenkickoff.com
DTSTAMP:20260420T063932Z
DTSTART:20260117T143000Z
DTEND:20260117T163000Z
SUMMARY:Hamburger SV vs Borussia Mönchengladbach
DESCRIPTION:WhenKickoff reminder for Hamburger SV vs Borussia Mönchengladbach
URL:https://whenkickoff.com/en/match/hamburger-sv-vs-borussia-m-nchengladbach-540564/
BEGIN:VALARM
TRIGGER:-PT15M
ACTION:DISPLAY
DESCRIPTION:Match starts soon
END:VALARM
END:VEVENT
END:VCALENDAR
