BEGIN:VCALENDAR
VERSION:2.0
PRODID:-//WhenKickoff//Match Reminder//EN
BEGIN:VEVENT
UID:wk-540562-15@whenkickoff.com
DTSTAMP:20260420T095834Z
DTSTART:20260118T163000Z
DTEND:20260118T183000Z
SUMMARY:FC Augsburg vs SC Freiburg
DESCRIPTION:WhenKickoff reminder for FC Augsburg vs SC Freiburg
URL:https://whenkickoff.com/en/match/fc-augsburg-vs-sc-freiburg-540562/
BEGIN:VALARM
TRIGGER:-PT15M
ACTION:DISPLAY
DESCRIPTION:Match starts soon
END:VALARM
END:VEVENT
END:VCALENDAR
