BEGIN:VCALENDAR
VERSION:2.0
PRODID:-//WhenKickoff//Match Reminder//EN
BEGIN:VEVENT
UID:wk-540561-15@whenkickoff.com
DTSTAMP:20260420T063934Z
DTSTART:20260117T143000Z
DTEND:20260117T163000Z
SUMMARY:TSG 1899 Hoffenheim vs Bayer 04 Leverkusen
DESCRIPTION:WhenKickoff reminder for TSG 1899 Hoffenheim vs Bayer 04 Leverkusen
URL:https://whenkickoff.com/en/match/tsg-1899-hoffenheim-vs-bayer-04-leverkusen-540561/
BEGIN:VALARM
TRIGGER:-PT15M
ACTION:DISPLAY
DESCRIPTION:Match starts soon
END:VALARM
END:VEVENT
END:VCALENDAR
