BEGIN:VCALENDAR
VERSION:2.0
PRODID:-//WhenKickoff//Match Reminder//EN
BEGIN:VEVENT
UID:wk-540560-15@whenkickoff.com
DTSTAMP:20260420T064002Z
DTSTART:20260116T193000Z
DTEND:20260116T213000Z
SUMMARY:SV Werder Bremen vs Eintracht Frankfurt
DESCRIPTION:WhenKickoff reminder for SV Werder Bremen vs Eintracht Frankfurt
URL:https://whenkickoff.com/en/match/sv-werder-bremen-vs-eintracht-frankfurt-540560/
BEGIN:VALARM
TRIGGER:-PT15M
ACTION:DISPLAY
DESCRIPTION:Match starts soon
END:VALARM
END:VEVENT
END:VCALENDAR
