BEGIN:VCALENDAR
VERSION:2.0
PRODID:-//WhenKickoff//Match Reminder//EN
BEGIN:VEVENT
UID:wk-540559-15@whenkickoff.com
DTSTAMP:20260420T043210Z
DTSTART:20260117T173000Z
DTEND:20260117T193000Z
SUMMARY:RB Leipzig vs FC Bayern München
DESCRIPTION:WhenKickoff reminder for RB Leipzig vs FC Bayern München
URL:https://whenkickoff.com/en/match/rb-leipzig-vs-fc-bayern-m-nchen-540559/
BEGIN:VALARM
TRIGGER:-PT15M
ACTION:DISPLAY
DESCRIPTION:Match starts soon
END:VALARM
END:VEVENT
END:VCALENDAR
