BEGIN:VCALENDAR
VERSION:2.0
PRODID:-//WhenKickoff//Match Reminder//EN
BEGIN:VEVENT
UID:wk-540558-15@whenkickoff.com
DTSTAMP:20260419T201233Z
DTSTART:20260304T193000Z
DTEND:20260304T213000Z
SUMMARY:Hamburger SV vs Bayer 04 Leverkusen
DESCRIPTION:WhenKickoff reminder for Hamburger SV vs Bayer 04 Leverkusen
URL:https://whenkickoff.com/en/match/hamburger-sv-vs-bayer-04-leverkusen-540558/
BEGIN:VALARM
TRIGGER:-PT15M
ACTION:DISPLAY
DESCRIPTION:Match starts soon
END:VALARM
END:VEVENT
END:VCALENDAR
