BEGIN:VCALENDAR
VERSION:2.0
PRODID:-//WhenKickoff//Match Reminder//EN
BEGIN:VEVENT
UID:wk-540557-15@whenkickoff.com
DTSTAMP:20260420T083910Z
DTSTART:20260114T193000Z
DTEND:20260114T213000Z
SUMMARY:1. FC Köln vs FC Bayern München
DESCRIPTION:WhenKickoff reminder for 1. FC Köln vs FC Bayern München
URL:https://whenkickoff.com/en/match/1-fc-k-ln-vs-fc-bayern-m-nchen-540557/
BEGIN:VALARM
TRIGGER:-PT15M
ACTION:DISPLAY
DESCRIPTION:Match starts soon
END:VALARM
END:VEVENT
END:VCALENDAR
