BEGIN:VCALENDAR
VERSION:2.0
PRODID:-//WhenKickoff//Match Reminder//EN
BEGIN:VEVENT
UID:wk-540556-15@whenkickoff.com
DTSTAMP:20260420T063933Z
DTSTART:20260114T193000Z
DTEND:20260114T213000Z
SUMMARY:TSG 1899 Hoffenheim vs Borussia Mönchengladbach
DESCRIPTION:WhenKickoff reminder for TSG 1899 Hoffenheim vs Borussia Mönchengladbach
URL:https://whenkickoff.com/en/match/tsg-1899-hoffenheim-vs-borussia-m-nchengladbach-540556/
BEGIN:VALARM
TRIGGER:-PT15M
ACTION:DISPLAY
DESCRIPTION:Match starts soon
END:VALARM
END:VEVENT
END:VCALENDAR
