BEGIN:VCALENDAR
VERSION:2.0
PRODID:-//WhenKickoff//Match Reminder//EN
BEGIN:VEVENT
UID:wk-540555-15@whenkickoff.com
DTSTAMP:20260420T063932Z
DTSTART:20260115T193000Z
DTEND:20260115T213000Z
SUMMARY:FC Augsburg vs 1. FC Union Berlin
DESCRIPTION:WhenKickoff reminder for FC Augsburg vs 1. FC Union Berlin
URL:https://whenkickoff.com/en/match/fc-augsburg-vs-1-fc-union-berlin-540555/
BEGIN:VALARM
TRIGGER:-PT15M
ACTION:DISPLAY
DESCRIPTION:Match starts soon
END:VALARM
END:VEVENT
END:VCALENDAR
