BEGIN:VCALENDAR
VERSION:2.0
PRODID:-//WhenKickoff//Match Reminder//EN
BEGIN:VEVENT
UID:wk-540554-15@whenkickoff.com
DTSTAMP:20260420T063935Z
DTSTART:20260114T173000Z
DTEND:20260114T193000Z
SUMMARY:VfL Wolfsburg vs FC St. Pauli 1910
DESCRIPTION:WhenKickoff reminder for VfL Wolfsburg vs FC St. Pauli 1910
URL:https://whenkickoff.com/en/match/vfl-wolfsburg-vs-fc-st-pauli-1910-540554/
BEGIN:VALARM
TRIGGER:-PT15M
ACTION:DISPLAY
DESCRIPTION:Match starts soon
END:VALARM
END:VEVENT
END:VCALENDAR
