BEGIN:VCALENDAR
VERSION:2.0
PRODID:-//WhenKickoff//Match Reminder//EN
BEGIN:VEVENT
UID:wk-540553-15@whenkickoff.com
DTSTAMP:20260420T083927Z
DTSTART:20260113T173000Z
DTEND:20260113T193000Z
SUMMARY:VfB Stuttgart vs Eintracht Frankfurt
DESCRIPTION:WhenKickoff reminder for VfB Stuttgart vs Eintracht Frankfurt
URL:https://whenkickoff.com/en/match/vfb-stuttgart-vs-eintracht-frankfurt-540553/
BEGIN:VALARM
TRIGGER:-PT15M
ACTION:DISPLAY
DESCRIPTION:Match starts soon
END:VALARM
END:VEVENT
END:VCALENDAR
