BEGIN:VCALENDAR
VERSION:2.0
PRODID:-//WhenKickoff//Match Reminder//EN
BEGIN:VEVENT
UID:wk-540552-15@whenkickoff.com
DTSTAMP:20260420T063935Z
DTSTART:20260114T193000Z
DTEND:20260114T213000Z
SUMMARY:RB Leipzig vs SC Freiburg
DESCRIPTION:WhenKickoff reminder for RB Leipzig vs SC Freiburg
URL:https://whenkickoff.com/en/match/rb-leipzig-vs-sc-freiburg-540552/
BEGIN:VALARM
TRIGGER:-PT15M
ACTION:DISPLAY
DESCRIPTION:Match starts soon
END:VALARM
END:VEVENT
END:VCALENDAR
