BEGIN:VCALENDAR
VERSION:2.0
PRODID:-//WhenKickoff//Match Reminder//EN
BEGIN:VEVENT
UID:wk-540551-15@whenkickoff.com
DTSTAMP:20260424T085542Z
DTSTART:20260113T193000Z
DTEND:20260113T213000Z
SUMMARY:1. FSV Mainz 05 vs 1. FC Heidenheim 1846
DESCRIPTION:WhenKickoff reminder for 1. FSV Mainz 05 vs 1. FC Heidenheim 1846
URL:https://whenkickoff.com/en/match/1-fsv-mainz-05-vs-1-fc-heidenheim-1846-540551/
BEGIN:VALARM
TRIGGER:-PT15M
ACTION:DISPLAY
DESCRIPTION:Match starts soon
END:VALARM
END:VEVENT
END:VCALENDAR
