BEGIN:VCALENDAR
VERSION:2.0
PRODID:-//WhenKickoff//Match Reminder//EN
BEGIN:VEVENT
UID:wk-540550-15@whenkickoff.com
DTSTAMP:20260420T083911Z
DTSTART:20260113T193000Z
DTEND:20260113T213000Z
SUMMARY:Borussia Dortmund vs SV Werder Bremen
DESCRIPTION:WhenKickoff reminder for Borussia Dortmund vs SV Werder Bremen
URL:https://whenkickoff.com/en/match/borussia-dortmund-vs-sv-werder-bremen-540550/
BEGIN:VALARM
TRIGGER:-PT15M
ACTION:DISPLAY
DESCRIPTION:Match starts soon
END:VALARM
END:VEVENT
END:VCALENDAR
