BEGIN:VCALENDAR
VERSION:2.0
PRODID:-//WhenKickoff//Match Reminder//EN
BEGIN:VEVENT
UID:wk-540548-15@whenkickoff.com
DTSTAMP:20260420T134822Z
DTSTART:20260127T193000Z
DTEND:20260127T213000Z
SUMMARY:FC St. Pauli 1910 vs RB Leipzig
DESCRIPTION:WhenKickoff reminder for FC St. Pauli 1910 vs RB Leipzig
URL:https://whenkickoff.com/en/match/fc-st-pauli-1910-vs-rb-leipzig-540548/
BEGIN:VALARM
TRIGGER:-PT15M
ACTION:DISPLAY
DESCRIPTION:Match starts soon
END:VALARM
END:VEVENT
END:VCALENDAR
